BEGIN:VCALENDAR
VERSION:2.0
PRODID:-//Wild and Wise Tribe - ECPv6.13.0//NONSGML v1.0//EN
CALSCALE:GREGORIAN
METHOD:PUBLISH
X-WR-CALNAME:Wild and Wise Tribe
X-ORIGINAL-URL:https://wildandwisetribe.com.au
X-WR-CALDESC:Events for Wild and Wise Tribe
REFRESH-INTERVAL;VALUE=DURATION:PT1H
X-Robots-Tag:noindex
X-PUBLISHED-TTL:PT1H
BEGIN:VTIMEZONE
TZID:Australia/Brisbane
BEGIN:STANDARD
TZOFFSETFROM:+1000
TZOFFSETTO:+1000
TZNAME:AEST
DTSTART:20260101T000000
END:STANDARD
END:VTIMEZONE
BEGIN:VEVENT
DTSTART;TZID=Australia/Brisbane:20260320T180000
DTEND;TZID=Australia/Brisbane:20260322T123000
DTSTAMP:20260424T071326
CREATED:20260202T075530Z
LAST-MODIFIED:20260308T154138Z
UID:10000118-1774029600-1774182600@wildandwisetribe.com.au
SUMMARY:Wild and Wise Tribe Men Wilderness Camp
DESCRIPTION:Wild & Wise Tribe is inviting soulful men to gather and experience the wilderness emerging within your inner nature. This is the second edition of our men’s wilderness camp: a two-night journey\, Friday to Sunday\, unplugging and connecting you with nature and your natural wisdom\, and sharing space with other brothers through meaningful activities. A great opportunity to escape the busyness and distracting world and to focus on aspects of your ancestry\, purpose\, legacy\, and inner guidance.  We will experience together: \n\nCanoeing journey on Lake Cootharaba and the Noosa Everglades\nMindful Bush Walk\nWilderness Camping at the Cooloola National Park\nLife Skills\nSunrise Yoga\nMindfulness exercises and activities\nSharing Circles\nMen’s gathering (brotherhood)\nIcebreakers and energisers\nFacilitated team challenges and group activities\nNature connection and mindfulness activities\n\nOur journey starts on Friday 20th March\, with a men’s fire circle and campsite dinner. We’ll overnight at Habitat Noosa and leave very early for a canoe journey up to the Everglades\, where we’ll stay overnight. On the morning of Sunday 22nd we’ll head back to base. Many activities\, such as yoga\, mindfulness\, icebreakers\, and challenging courses\, will be delivered during the program. \nPlease note: BYO camping gear and snacks.\nCampsite fees\, canoeing hire\, and meals (2 breakfasts / 1 lunch / 2 dinners) are included.\nYou will receive a list of equipment to bring and suggestions for snacks. \nMax: 14 participants.\nBuy now and pay later is available with AfterPay and ZipPay. \nPlease see here some footage from our past event: \n \nFacilitator: \nNelson Eulalio\, Outdoor leader and Nature-based therapist\, founder of Wild and Wise Tribe. Know more about Nelson here \nOr listen to the episode “Find Wisdom in the Wild” by Naturally Unplugged\, featuring Nelson Eulálio: \nhttps://www.youtube.com/watch?v=bl3hK46mYPU \n  \n>>>For bookings and more info:\nhttps://events.humanitix.com/wild-and-wise-tribe-mens-wilderness-camp-autumn-2026 \n  \n\n  \nMore images from our last camp here: \n \n \n \n \n \n \n \n \n \n 
URL:https://wildandwisetribe.com.au/wwt-event/wild-and-wise-tribe-men-wilderness-camp-march2026/
LOCATION:Noosa\, QLD
CATEGORIES:Adults,Men
ATTACH;FMTTYPE=image/jpeg:https://wildandwisetribe.com.au/wp-content/uploads/2026/02/unplug-and-rewind.jpeg
END:VEVENT
BEGIN:VEVENT
DTSTART;TZID=Australia/Brisbane:20260406T083000
DTEND;TZID=Australia/Brisbane:20260406T143000
DTSTAMP:20260424T071326
CREATED:20260109T023202Z
LAST-MODIFIED:20260109T023202Z
UID:10000116-1775464200-1775485800@wildandwisetribe.com.au
SUMMARY:Intro to Bush Skills\, Mindfulness & Survival Techniques for kids
DESCRIPTION:6-hour workshop for kids 8+. Techniques to build resilience and awareness\, how to make fire\, gather water and build a shelter. \nBush skills\, mindfulness and survival skills for kids 8-12yo. Your child will learn in a fun day: \n\nThe mindset of survival and the “rules of three”\nHow to make fire using different modalities\nPrepare food and cook on fire\nHow to gather and treat water in the wilderness\nKnots and how to build shelter\n\nLocation: Wild & Wise Tribe\, 6 mins from Yandina town centre. \nExact address will be informed after ticket is purchased. \nPlease note: For kids 8-12yo \nFor bookings and more info: \nhttps://events.humanitix.com/intro-to-bush-skills-mindfulness-and-survival-techniques-for-kids-apr2026
URL:https://wildandwisetribe.com.au/wwt-event/intro-to-bush-skills-mindfulness-survival-techniques-for-kids-apr2026/
LOCATION:Yandina\, QLD\, Yandina\, QLD\, 4561\, Australia
CATEGORIES:Children,Family
ATTACH;FMTTYPE=image/png:https://wildandwisetribe.com.au/wp-content/uploads/2026/01/one-day-APR2026.png
END:VEVENT
BEGIN:VEVENT
DTSTART;TZID=Australia/Brisbane:20260407T083000
DTEND;TZID=Australia/Brisbane:20260409T143000
DTSTAMP:20260424T071326
CREATED:20260114T075757Z
LAST-MODIFIED:20260114T080422Z
UID:10000117-1775550600-1775745000@wildandwisetribe.com.au
SUMMARY:3-Day Bush and Life Skills Course for KIDS (level1)
DESCRIPTION:School Holidays program: Bush skills\, mindfulness and survival skills course for kids 8-12yo.\n \nYour child will learn in four fun days course with lessons\, practical skills and games\n(from 8:30am to 2:30pm\, daily drop-offs and pickups) \n \nDay 1 – Intro + Earth + Water\n-The mindset of survival and the “rules of three”\n-Intro to the EARTH element\n-Planting session\n-Intro to knots and building shelter\n-Intro to WATER and AIR element & Flow\n-Water practical activity\n-Intro to emotions / emotional regulation techniques\n-Pickup 14:30 \nDay 2- Fire\n-Intro to human’s 3 centres of intelligence\n-Intro to emotions / emotional regulation techniques\n-Harvesting water (survival)\n-Intro to FIRE element\n-Intro to chi/prana/ki + exercises\n-Fire making\n-Cooking on Fire\n-Pickup 14:30 \nDay 3 – Air + Intro to Wilderness First Aid + Conclusion\n-Intro to Navigation skills\n-Intro to Breathwork\n-Intro to Nature Communication\n-Intro to Wilderness First Aid\n-Intro to Weather interpretation\n-Mindfulness journey session\nFINAL ASSESSMENT – big scenario – put all in action! 🙂\n-Conclusion + Certificates (Parents come at 13:30) \nProgram subject to modifications depending on weather and other factors \n— \nTo join this course\, the child must have participated in the “Intro to Bush Skills and Survival Survival Techniques” workshop offered on Sundays throughout the year. The next one is on MONDAY 6TH APRIL and you can check more info and bookings here. \n  \nLocation: Wild & Wise Tribe\, 6 mins from Yandina town centre. \nPlease note: For kids 8 to 12 yo. Daily drop-offs and pick-ups \nFor bookings and more info:\nhttps://events.humanitix.com/3-day-school-holiday-program-bush-and-life-skills-course-for-kids-lv1-apr2026
URL:https://wildandwisetribe.com.au/wwt-event/3-day-bush-and-life-skills-course-for-kids-level1-apr2026/
LOCATION:Yandina\, QLD\, Yandina\, QLD\, 4561\, Australia
CATEGORIES:Children
ATTACH;FMTTYPE=image/jpeg:https://wildandwisetribe.com.au/wp-content/uploads/2026/01/3DAY-Course-Kids-APR2026.jpeg
END:VEVENT
BEGIN:VEVENT
DTSTART;TZID=Australia/Brisbane:20260410T083000
DTEND;TZID=Australia/Brisbane:20260410T143000
DTSTAMP:20260424T071326
CREATED:20260405T105551Z
LAST-MODIFIED:20260405T105551Z
UID:10000121-1775809800-1775831400@wildandwisetribe.com.au
SUMMARY:Intro to Bush Skills\, Mindfulness and Survival Techniques for kids
DESCRIPTION:6-hour workshop for kids 8+. Techniques to build resilience and awareness\, how to make fire\, gather water and build a shelter. \nBush skills\, mindfulness and survival skills for kids 7-12yo. Your child will learn in a fun day: \n\nThe mindset of survival and the “rules of three”\nHow to make fire using different modalities\nPrepare food and cook on fire\nHow to gather and treat water in the wilderness\nKnots and how to build shelter\n\nLocation: Wild & Wise Tribe\, 6 mins from Yandina town centre. \nThe exact address will be informed after ticket is purchased. \nPlease note: For kids 8-12yo \nFor bookings and more info: \nhttps://events.humanitix.com/intro-to-bush-skills-mindfulness-and-survival-techniques-for-kids-10th-apr \n 
URL:https://wildandwisetribe.com.au/wwt-event/intro-to-bush-skills-mindfulness-and-survival-techniques-for-kids/
LOCATION:Yandina\, QLD\, Yandina\, QLD\, 4561\, Australia
CATEGORIES:Children,Family
ATTACH;FMTTYPE=image/jpeg:https://wildandwisetribe.com.au/wp-content/uploads/2026/04/ONEDAY10thautumn_school-holidays2026.jpg
END:VEVENT
BEGIN:VEVENT
DTSTART;TZID=Australia/Brisbane:20260414T083000
DTEND;TZID=Australia/Brisbane:20260416T143000
DTSTAMP:20260424T071326
CREATED:20251204T075056Z
LAST-MODIFIED:20260317T033514Z
UID:10000111-1776155400-1776349800@wildandwisetribe.com.au
SUMMARY:3-day Bush and Life Skills Course for KIDS (Level2)
DESCRIPTION:SCHOOL HOLIDAYS program: Level 2 Bush & Life Skills advanced course for kids 8-12yo.\nThis is a level 2 program for the children who has already done our 4-day bush and life skills course. A fun four-day course with new lessons\, practical skills and games. \n(from 8:30am to 2:30pm\, daily drop-offs and pickups) \n  \n3-day LEVEL 2 program: \nFollowing the same five-element framework used on our favourite level 1 course\, your child will learn much more in this new course! \nPlease note that your child must have already participated successfully in our 4-day Bush and Life Skill Course or the Level 1 Homeschooling program \n– Advanced shelter making (and new knots) \n– Advanced navigation with bearings \n– Use of hand tools (saw\, drill\, etc) \n– Full meal cooking and use of kitchen tools \n– Advanced fire-making tools \n– Camouflage techniques \n– Challenge trail \n– New Hunting tools: building traps and making bow and arrows \n– Water harvest and elixir preparation \n– More emotion regulation theory and exercises \n– More wilderness first aid techniques \n– Create your own bug repellent and your survival kit \n– Yoga and new martial arts exercises- A new exciting survival scenario! \nSee the video with some footage from the last two courses:\n\n \nPlease note: To join this course\, the child must have successfully participated in the “4-Day Life and Bush Skills course” Level 1 (or Level 1 Homeschooling program) offered on school holidays throughout the year. \nLocation: This course will be delivered in a lovely property in Ninderry\, QLD – You will receive the exact address after booking your tickets. \nPlease note: For kids 8 to 12 yo. Daily drop-offs and pick-ups \nProgram subject to modifications depending on weather and other factors \n—
URL:https://wildandwisetribe.com.au/wwt-event/3-day-school-holiday-program-bush-and-life-skills-course-for-kids-advanced-13jan/
LOCATION:Ninderry\, QLD\, Australia
CATEGORIES:Children,Family
ATTACH;FMTTYPE=image/jpeg:https://wildandwisetribe.com.au/wp-content/uploads/2025/12/3DAY-Kids-14APR.jpeg
END:VEVENT
BEGIN:VEVENT
DTSTART;TZID=Australia/Brisbane:20260515T180000
DTEND;TZID=Australia/Brisbane:20260517T123000
DTSTAMP:20260424T071326
CREATED:20260227T055352Z
LAST-MODIFIED:20260421T091941Z
UID:10000120-1778868000-1779021000@wildandwisetribe.com.au
SUMMARY:Wild and Wise Tribe FATHER AND SON Wilderness Camp 2026
DESCRIPTION:Wild & Wise Tribe is inviting fathers (or guardians) and teenage sons to gather and experience the wilderness emerging within your inner nature on a two-night journey and wilderness camp\, Friday to Sunday\, unplugging and connecting you with your son\, with nature\, and with your natural wisdom\, and sharing space and building community with other men through meaningful activities. \nIt is a great opportunity to initiate your son into men’s business\, focusing on aspects of your ancestry\, purpose\, legacy\, and inner guidance. We will experience together the following: \n\nCanoeing journey on Lake Cootharaba and the Noosa Everglades\nMindful Bush Walk\nWilderness Camping at the Cooloola National Park\nLife Skills\nSunrise Yoga\nMindfulness exercises and activities\nSharing Circles\nMen’s gathering (brotherhood)\nIcebreakers and energisers\nFacilitated team challenges and group activities\nNature connection and mindfulness activities\n\nOur journey starts on Friday\, 15th May\, with a campsite dinner and a men’s circle. We’ll overnight at Habitat Noosa and leave very early for a canoe journey up to the Everglades\, where we’ll stay overnight. On the morning of Sunday the 17th\, we’ll head back to base. Many activities\, such as yoga\, mindfulness\, icebreakers\, and challenging courses\, will be delivered during the program.. \nPlease note: \n\nBYO camping gear and snacks.\nCampsite fees\, canoeing hire\, and meals (2 breakfasts / 1 lunch / 2 dinners) are included.\nA list of equipment to bring will be sent after booking\nThis is an event for men only\, coming in pairs: one father/guardian and one son/stepson/godson 12-17yo\nEvent format and times may change depending on the weather. A minimum number of participants is necessary for the event to go ahead.\nThis is an alcohol- and drug-free event. \n\nMax: 14 participants (7 pairs)\nBuy now and pay later is available with AfterPay and ZipPay. \nPlease see here some footage from our past event: \n \nFacilitator: \nNelson Eulalio\, Outdoor leader and Nature-based therapist\, founder of Wild and Wise Tribe. Know more about Nelson here \nOr listen to the episode “Find Wisdom in the Wild” by Naturally Unplugged\, featuring Nelson Eulálio: \nhttps://www.youtube.com/watch?v=bl3hK46mYPU \n  \nFor bookings and more info:\nhttps://events.humanitix.com/father-and-son-wilderness-camp-may-2026\n \n  \n\n  \nMore images from our last camp here: \n \n \n \n \n \n \n \n \n \n 
URL:https://wildandwisetribe.com.au/wwt-event/wild-and-wise-tribe-father-and-son-wilderness-camp-may2026/
LOCATION:Sunshine Coast\, QLD\, Sunshine Coast\, QLD\, Australia
CATEGORIES:Adults,Children,Family,Men
ATTACH;FMTTYPE=image/jpeg:https://wildandwisetribe.com.au/wp-content/uploads/2026/02/Father-and-Son.jpg
END:VEVENT
END:VCALENDAR