BEGIN:VCALENDAR
VERSION:2.0
PRODID:-//Wild and Wise Tribe - ECPv6.13.0//NONSGML v1.0//EN
CALSCALE:GREGORIAN
METHOD:PUBLISH
X-ORIGINAL-URL:https://wildandwisetribe.com.au
X-WR-CALDESC:Events for Wild and Wise Tribe
REFRESH-INTERVAL;VALUE=DURATION:PT1H
X-Robots-Tag:noindex
X-PUBLISHED-TTL:PT1H
BEGIN:VTIMEZONE
TZID:Australia/Brisbane
BEGIN:STANDARD
TZOFFSETFROM:+1000
TZOFFSETTO:+1000
TZNAME:AEST
DTSTART:20250101T000000
END:STANDARD
END:VTIMEZONE
BEGIN:VEVENT
DTSTART;TZID=Australia/Brisbane:20250607T090000
DTEND;TZID=Australia/Brisbane:20250607T120000
DTSTAMP:20260424T181453
CREATED:20250403T024948Z
LAST-MODIFIED:20250509T095610Z
UID:10000085-1749286800-1749297600@wildandwisetribe.com.au
SUMMARY:Intro to Bush Tucker and Gubbi Gubbi Culture
DESCRIPTION:Join us on a Guided Bush Tucker Walk led by Lisa Powell\, a local Gubbi Gubbi elder. Lisa will lead you on a short discovery tour at the ridge of the Mapleton National Park\, near Yandina town\, introducing you to some of our Bush Tucker plants and explaining their cultural significance and uses. \nThe three-hour workshop begins at 9am (8:45 registration for a 9am start) with a bush taker walk. You’re welcome to take notes and ask questions along the walk. We’ll then have a break for morning tea around 10:30am. After that Lisa will show some items and cultural aspects of Gubbi Gubbi culture where participants are welcome to ask questions. \nLocation: Wild & Wise Tribe\, 6 mins from Yandina town centre. \nPlease note: This event is targeted at adults only but 12+years old are welcome as long as they participate with an adult guardian. Tickets are limited to 20 people only.\nThe walk will take place regardless of the weather\, so please bring an umbrella/raincoat and wear hiking/non-slip shoes. A minimum level of fitness is necessary to walk uphill and the in the non-levelled forest ground. \n \n \n \n \n \n \n \nFor more information about the facilitator(s): www.wildandwisetribe.com.au/our-team/ \nFor bookings and more info: \nhttps://events.humanitix.com/intro-to-bush-tucker-and-gubbi-gubbi-culture
URL:https://wildandwisetribe.com.au/wwt-event/intro-to-bush-tucker-and-gubbi-gubbi-culture-2/
LOCATION:Yandina\, QLD\, Yandina\, QLD\, 4561\, Australia
CATEGORIES:Adults,Family
ATTACH;FMTTYPE=image/png:https://wildandwisetribe.com.au/wp-content/uploads/2025/04/Bush-Tucker.png
END:VEVENT
BEGIN:VEVENT
DTSTART;TZID=Australia/Brisbane:20250628T090000
DTEND;TZID=Australia/Brisbane:20250628T120000
DTSTAMP:20260424T181453
CREATED:20250609T052841Z
LAST-MODIFIED:20250621T220743Z
UID:10000089-1751101200-1751112000@wildandwisetribe.com.au
SUMMARY:Wild and Wise Tribe Family Bushwalk and Nature Connection
DESCRIPTION:We will meetup at the Marrochy Bushland Botanic Gardens around 8:45 for a 9am start. Please BYO food\, we will stop for a picnic. Sun smart clothes\, hat\, enclosed shoes\, and water bottles are fully recommended\, as well as rain jacket if there is a chance of rain. \nWe are doing the Marrochy Bushland Botanic Gardens. We are combining a couple of tracks and the total walk is about 2.5km. We will do a feel stops for nature-connection activities and for a picnic. We are combining the “Fern Glade Walk”\, “Lagoon Walk” and “Upland Bushwalk”. The total time estimated is around 2 hours. \nOur meetup point is at the front of the “Compass Garden Cafe” coffee shop.\nThis is the pinpoint: https://maps.app.goo.gl/GxxA7q… are meeting there at 8:45 for a 9am start. \nPlease note: Parents/guardians are fully responsible for themselves and their children and should join the whole walk. This is a free event (a donation is appreciated). Please book one ticket per family (parents and kids). \nBOOKINGS ARE ESSENTIAL. \nMore info about the track (to check suitability):\nhttps://assets-au-scc.kc-userc… \nAddress: 51 Palm Creek Road Tanawha\, QLD 4554 Australia \n 
URL:https://wildandwisetribe.com.au/wwt-event/wild-and-wise-tribe-family-bushwalk-and-nature-connection-3/
LOCATION:Maroochy Regional Bushland Botanic Garden\, 51 Palm Creek Road\, Tanawha\, QLD\, 4556\, Australia
CATEGORIES:Adults,Children,Family
ATTACH;FMTTYPE=image/jpeg:https://wildandwisetribe.com.au/wp-content/uploads/2025/06/Family_bushwalk28Jun.jpg
END:VEVENT
BEGIN:VEVENT
DTSTART;TZID=Australia/Brisbane:20250630T083000
DTEND;TZID=Australia/Brisbane:20250703T143000
DTSTAMP:20260424T181453
CREATED:20250527T121849Z
LAST-MODIFIED:20250606T005745Z
UID:10000086-1751272200-1751553000@wildandwisetribe.com.au
SUMMARY:4-day school holiday program: Bush and Life Skills course for kids
DESCRIPTION:  \nSchool Holidays program: Bush skills\, mindfulness and survival skills course for kids 8-12yo.\n \nYour child will learn in four fun days course with lessons\, practical skills and games\n(from 8:30am to 2:30pm\, daily drop-offs and pickups) \n \n  \nDay1 – Intro + Fire\n-The mindset of survival and the “rules of three”\n-Intro to the human’s 3 centres of intelligence\n-Intro to FIRE element\n-Intro to chi / prana / ki + exercises\n-Fire making\n-Cooking on Fire\n-Planting session \n  \nDay 2 – Earth \n-Intro to the EARTH element\n-Fox walk (Stalking and camouflage)\n-Intro to building traps and hunting tools\n-Intro to Navigation skills\n-Intro to knots and building shelter \n  \nDay 3 – Water + Air\n-Intro to WATER and AIR element & Flow\n-Intro to emotions / emotional regulation techniques\n-Harvesting water (survival)\n-Intro to Navigation skills\n-Intro to breathwork\n-Water practical activity\n-Intro to Nature Communication \n  \nDay 4 – Intro to Wilderness First Aid and Conclusion\n-Intro to Wilderness First Aid\n-Intro to Weather interpretation\n-Mindfulness journey session\nFINAL ASSESSMENT – put all in action! 🙂\n-Conclusion + Certificates \n  \nLocation: Yandina\, QLD \nPlease note: For kids 8-12yo \nFor bookings and more info:\nhttps://events.humanitix.com/4-day-school-holiday-program-bush-and-life-skills-course-for-kids
URL:https://wildandwisetribe.com.au/wwt-event/4-day-school-holiday-program-bush-and-life-skills-course-for-kids-5/
LOCATION:Yandina\, QLD\, Yandina\, QLD\, 4561\, Australia
CATEGORIES:Children,Family
ATTACH;FMTTYPE=image/png:https://wildandwisetribe.com.au/wp-content/uploads/2025/05/4-e1749171444167.png
END:VEVENT
END:VCALENDAR