BEGIN:VCALENDAR
VERSION:2.0
PRODID:-//Wild and Wise Tribe - ECPv6.13.0//NONSGML v1.0//EN
CALSCALE:GREGORIAN
METHOD:PUBLISH
X-ORIGINAL-URL:https://wildandwisetribe.com.au
X-WR-CALDESC:Events for Wild and Wise Tribe
REFRESH-INTERVAL;VALUE=DURATION:PT1H
X-Robots-Tag:noindex
X-PUBLISHED-TTL:PT1H
BEGIN:VTIMEZONE
TZID:Australia/Brisbane
BEGIN:STANDARD
TZOFFSETFROM:+1000
TZOFFSETTO:+1000
TZNAME:AEST
DTSTART:20240101T000000
END:STANDARD
END:VTIMEZONE
BEGIN:VEVENT
DTSTART;TZID=Australia/Brisbane:20240818T083000
DTEND;TZID=Australia/Brisbane:20240818T143000
DTSTAMP:20260425T222848
CREATED:20240512T141659Z
LAST-MODIFIED:20240705T013903Z
UID:10000060-1723969800-1723991400@wildandwisetribe.com.au
SUMMARY:Intro to Bush Skills\, Mindfulness & Survival Techniques for Teens (12-16yo)
DESCRIPTION:[vc_row][vc_column][vc_column_text] \n6-hour workshop for teens 12-16yo. Techniques to build resilience and awareness\, how to make fire\, gather water and build a shelter. \nBush skills\, mindfulness and survival skills for teens 12-16 yo. Your teen will learn in a fun day: \n\nThe mindset of survival and the “rules of three”\nHow to make fire using different modalities\nPrepare food and cook on fire\nHow to gather and treat water in the wilderness\nKnots and how to build shelter\n\nLocation: Yandina\, QLD \nPlease note: For teens 12-16yo \nFor more information about the facilitator: www.wildandwisetribe.com.au \nFor bookings and more info: \nhttps://www.eventbrite.com.au/e/intro-to-bush-skills-mindfulness-survival-techniques-for-teens-registration-902869746717 \n[/vc_column_text][/vc_column][/vc_row][vc_row][vc_column][/vc_column][/vc_row]
URL:https://wildandwisetribe.com.au/wwt-event/intro-to-bush-skills-mindfulness-survival-techniques-for-teens/
LOCATION:Yandina\, QLD\, Yandina\, QLD\, 4561\, Australia
CATEGORIES:Children,Teens
ATTACH;FMTTYPE=image/jpeg:https://wildandwisetribe.com.au/wp-content/uploads/2024/05/Intro_to_bushskills-WWT_Teens_AUG24.jpg
END:VEVENT
BEGIN:VEVENT
DTSTART;TZID=Australia/Brisbane:20240824T090000
DTEND;TZID=Australia/Brisbane:20240824T120000
DTSTAMP:20260425T222848
CREATED:20240614T081425Z
LAST-MODIFIED:20240822T021625Z
UID:10000068-1724490000-1724500800@wildandwisetribe.com.au
SUMMARY:Wild and Wise Tribe Family Bushwalk and Nature Connection
DESCRIPTION:We will meetup at the Marrochy Bushland Botanic Gardens around 8:45 for a 9am start. Please BYO food\, we will stop for a picnic. Sun smart clothes\, hat\, enclosed shoes\, and water bottles are fully recommended\, as well as rain jacket if there is a chance of rain. \nWe are doing the Marrochy Bushland Botanic Gardens. We are combining a couple of tracks and the total walk is about 2.5km. We will do a feel stops for nature-connection activities and for a picnic. We are combining the “Fern Glade Walk”\, “Lagoon Walk” and “Upland Bushwalk”. The total time estimated is around 2 hours. \nOur meetup point is at the front of the “Compass Garden Cafe” coffee shop.\nThis is the pinpoint: https://maps.app.goo.gl/GxxA7qPXsePvM5PbA \nWe are meeting there at 8:45 for a 9am start. \nPlease note: Parents/guardians are fully responsible for themselves and their children and should join the whole walk. This is a free event (a donation is appreciated). Please book one ticket per family(parents and kids). BOOKINGS ARE ESSENTIAL. \nMore info about the track (to check suitability):\nhttps://assets-au-scc.kc-usercontent.com/330b87ea-148b-3ecf-9857-698f2086fe8d/1849e4ad-f725-488f-ba98-2bee98029bf8/MRBBG_Location%20and%20Walks%20Map_A4_2023.pdf \n 
URL:https://wildandwisetribe.com.au/wwt-event/wild-wise-tribe-family-bushwalk-nature-connection-2/
LOCATION:QLD
CATEGORIES:Adults,Children,Family,Teens
ATTACH;FMTTYPE=image/jpeg:https://wildandwisetribe.com.au/wp-content/uploads/2024/06/Family_bushwalk_Aug24.jpg
END:VEVENT
END:VCALENDAR