BEGIN:VCALENDAR
VERSION:2.0
PRODID:-//Wild and Wise Tribe - ECPv6.13.0//NONSGML v1.0//EN
CALSCALE:GREGORIAN
METHOD:PUBLISH
X-ORIGINAL-URL:https://wildandwisetribe.com.au
X-WR-CALDESC:Events for Wild and Wise Tribe
REFRESH-INTERVAL;VALUE=DURATION:PT1H
X-Robots-Tag:noindex
X-PUBLISHED-TTL:PT1H
BEGIN:VTIMEZONE
TZID:Australia/Brisbane
BEGIN:STANDARD
TZOFFSETFROM:+1000
TZOFFSETTO:+1000
TZNAME:AEST
DTSTART:20230101T000000
END:STANDARD
END:VTIMEZONE
BEGIN:VEVENT
DTSTART;TZID=Australia/Brisbane:20230817T183000
DTEND;TZID=Australia/Brisbane:20230817T210000
DTSTAMP:20260424T071426
CREATED:20230623T074028Z
LAST-MODIFIED:20230802T000033Z
UID:10000021-1692297000-1692306000@wildandwisetribe.com.au
SUMMARY:Soulful Connections Men's Fire Circle - August 2023
DESCRIPTION:A monthly soulful circle where conscious men come together to sit by the grandfather fire and connect with our heart\, soul and spirit. \nA safe space to breathe together\, deeply connect\, open our hearts and share the challenges we are experiencing at the moment\, and let go of what is no longer serving. With integrity and vulnerability\, we’ll build our strength\, and make each other supported\, and accountable. \nWe will also share a healthy homecooked and vegan-friendly meal to warm and nourish our bodies (complimentary). \nWith love\, vulnerability and reverence\, we’ll share the wisdom and knowledge to create a community of soulful men: conscious fathers\, sons and husbands. We’ll work on ANCESTRY\, PURPOSE and LEGACY\, and also on deep NATURE-CONNECTIONS. \nThe MEN’S CIRCLE HONOR CODE: \n1 – Always speak from the HEART; \n2 – What is spoken and witnessed around the circles stays in the fire and never leaves. CONFIDENTIALITY is non-negotiable; \n3 – OWNERSHIP to our words and deeds\, we always use the first pronoun “I” when sharing; \n4 – Listen with compassion and absolutely NO JUDGEMENT: no feedback is given unless specially asked for by the man who is sharing; \n5 – Participation is not optional – every man gives 100% of himself to the brothers and to his own process. \n  \nSoulful brothers\, please make sure you get your tickets as the spots are limited and bookings are essential. \nPlease bring a camping chair\, water bottle\, and a mug. You are also welcome to bring in your notepad and pen if you wish to do so. \nLOCATION: Yandina\, QLD. The exact location will be shared by email and/or SMS the day before the event.
URL:https://wildandwisetribe.com.au/wwt-event/soulful-connections-mens-fire-circle-august-2023/
CATEGORIES:Adults,Men
ATTACH;FMTTYPE=image/jpeg:https://wildandwisetribe.com.au/wp-content/uploads/2023/06/menscircle_WWT_header_AUG23.jpg
END:VEVENT
BEGIN:VEVENT
DTSTART;TZID=Australia/Brisbane:20230720T183000
DTEND;TZID=Australia/Brisbane:20230720T210000
DTSTAMP:20260424T071426
CREATED:20230622T124917Z
LAST-MODIFIED:20230713T110219Z
UID:10000018-1689877800-1689886800@wildandwisetribe.com.au
SUMMARY:Soulful Connections Men's Fire Circle - July 2023
DESCRIPTION:A monthly soulful circle where conscious men come together to sit by the grandfather fire and connect with our heart\, soul and spirit. \nA safe space to breathe together\, deeply connect\, open our hearts and share the challenges we are experiencing at the moment\, and let go of what is no longer serving. With integrity and vulnerability\, we’ll build our strength\, and make each other supported\, and accountable. \nWe will also share a healthy homecooked and vegan-friendly meal to warm and nourish our bodies (complimentary). \nWith love\, vulnerability and reverence\, we’ll share the wisdom and knowledge to create a community of soulful men: conscious fathers\, sons and husbands. We’ll work on ANCESTRY\, PURPOSE and LEGACY\, and also on deep NATURE-CONNECTIONS. \nThe MEN’S CIRCLE HONOR CODE: \n1 – Always speak from the HEART; \n2 – What is spoken and witnessed around the circles stays in the fire and never leaves. CONFIDENTIALITY is non-negotiable; \n3 – OWNERSHIP to our words and deeds\, we always use the first pronoun “I” when sharing; \n4 – Listen with compassion and absolutely NO JUDGEMENT: no feedback is given unless specially asked for by the man who is sharing; \n5 – Participation is not optional – every man gives 100% of himself to the brothers and to his own process. \nSoulful brothers\, please make sure you get your tickets as the spots are limited and bookings are essential.\nBookings here: https://www.eventbrite.com.au/e/660923539097\n \n\nPlease bring a camping chair\, water bottle\, and a mug. You are also welcome to bring in your notepad and pen if you wish to do so. \nLOCATION: Yandina\, QLD. The exact location will be shared by email and/or SMS the day before the event.
URL:https://wildandwisetribe.com.au/wwt-event/soulful-connections-mens-fire-circle-july-2023/
CATEGORIES:Adults,Men
ATTACH;FMTTYPE=image/jpeg:https://wildandwisetribe.com.au/wp-content/uploads/2023/06/https___cdn.evbuc_.com_images_537181569_1371164258803_1_original.jpeg
END:VEVENT
BEGIN:VEVENT
DTSTART;TZID=Australia/Brisbane:20230615T183000
DTEND;TZID=Australia/Brisbane:20230615T210000
DTSTAMP:20260424T071426
CREATED:20230713T111337Z
LAST-MODIFIED:20230713T111401Z
UID:10000029-1686853800-1686862800@wildandwisetribe.com.au
SUMMARY:Soulful Connections Men's Fire Circle - June 2023
DESCRIPTION:A monthly soulful circle where conscious men come together to sit by the grandfather fire and connect with our heart\, soul and spirit. \nA safe space to breathe together\, deeply connect\, open our hearts and share the challenges we are experiencing at the moment\, and let go of what is no longer serving. With integrity and vulnerability\, we’ll build our strength\, and make each other supported\, and accountable. \nWe will also share a healthy homecooked and vegan-friendly meal to warm and nourish our bodies (complimentary). \nWith love\, vulnerability and reverence\, we’ll share the wisdom and knowledge to create a community of soulful men: conscious fathers\, sons and husbands. We’ll work on ANCESTRY\, PURPOSE and LEGACY\, and also on deep NATURE-CONNECTIONS. \nThe MEN’S CIRCLE HONOR CODE: \n1 – Always speak from the HEART; \n2 – What is spoken and witnessed around the circles stays in the fire and never leaves. CONFIDENTIALITY is non-negotiable; \n3 – OWNERSHIP to our words and deeds\, we always use the first pronoun “I” when sharing; \n4 – Listen with compassion and absolutely NO JUDGEMENT: no feedback is given unless specially asked for by the man who is sharing; \n5 – Participation is not optional – every man gives 100% of himself to the brothers and to his own process. \nSoulful brothers\, please make sure you get your tickets as the spots are limited and bookings are essential.\nBookings here: https://www.eventbrite.com.au/e/660923539097 \nPlease bring a camping chair\, water bottle\, and a mug. You are also welcome to bring in your notepad and pen if you wish to do so. \nLOCATION: Yandina\, QLD. The exact location will be shared by email and/or SMS the day before the event.
URL:https://wildandwisetribe.com.au/wwt-event/soulful-connections-mens-fire-circle-june-2023/
CATEGORIES:Adults,Men
ATTACH;FMTTYPE=image/jpeg:https://wildandwisetribe.com.au/wp-content/uploads/2023/07/menscircle_WWT_header2.jpg
END:VEVENT
END:VCALENDAR