BEGIN:VCALENDAR
VERSION:2.0
PRODID:-//Wild and Wise Tribe - ECPv6.13.0//NONSGML v1.0//EN
CALSCALE:GREGORIAN
METHOD:PUBLISH
X-ORIGINAL-URL:https://wildandwisetribe.com.au
X-WR-CALDESC:Events for Wild and Wise Tribe
REFRESH-INTERVAL;VALUE=DURATION:PT1H
X-Robots-Tag:noindex
X-PUBLISHED-TTL:PT1H
BEGIN:VTIMEZONE
TZID:Australia/Brisbane
BEGIN:STANDARD
TZOFFSETFROM:+1000
TZOFFSETTO:+1000
TZNAME:AEST
DTSTART:20250101T000000
END:STANDARD
END:VTIMEZONE
BEGIN:VEVENT
DTSTART;TZID=Australia/Brisbane:20251009T183000
DTEND;TZID=Australia/Brisbane:20251009T210000
DTSTAMP:20260424T191501
CREATED:20250909T063240Z
LAST-MODIFIED:20250909T063240Z
UID:10000098-1760034600-1760043600@wildandwisetribe.com.au
SUMMARY:Soulful Connections Men's Fire Circle - October 2025
DESCRIPTION:A safe space to breathe together\, deeply connect\, open our hearts and share the challenges we are experiencing at the moment\, and let go of what is no longer serving. With integrity and vulnerability\, we’ll build our strength\, and make each other supported\, and accountable. \nWe will also share a healthy homecooked and vegan-friendly meal to warm and nourish our bodies (complimentary). \nWith love\, vulnerability and reverence\, we’ll share the wisdom and knowledge to create a community of soulful men: conscious fathers\, sons and husbands. We’ll work on ANCESTRY\, PURPOSE and LEGACY\, and also on deep NATURE-CONNECTIONS. \nThe MEN’S CIRCLE HONOR CODE: \n1 – Always speak from the HEART; \n2 – What is spoken and witnessed around the circles stays in the fire and never leaves. CONFIDENTIALITY is non-negotiable; \n3 – OWNERSHIP of our words and deeds\, we always use the first pronoun “I” when sharing; \n4 – Listen with compassion and absolutely NO JUDGEMENT: no feedback is given unless specially asked for by the man who is sharing; \n5 – Participation is not optional – every man shares something that is going on for him to the brothers and to his own process. It can be short and seet or go for more depth. \n  \nSoulful brothers\, please make sure you get your tickets as the spots are limited and bookings are essential. \nPlease bring a camping chair\, water bottle\, and a mug. You are also welcome to bring in your notepad and pen if you wish to do so. \n  \nLOCATION: Yandina\, QLD. The exact location will be shared by email and/or SMS the day before the event.
URL:https://wildandwisetribe.com.au/wwt-event/soulful-connections-mens-fire-circle-october-2025/
LOCATION:Yandina\, QLD\, Yandina\, QLD\, 4561\, Australia
CATEGORIES:Adults,Men
ATTACH;FMTTYPE=image/jpeg:https://wildandwisetribe.com.au/wp-content/uploads/2025/08/WhatsApp-Image-2025-08-05-at-14.50.07.jpeg
END:VEVENT
BEGIN:VEVENT
DTSTART;TZID=Australia/Brisbane:20260320T180000
DTEND;TZID=Australia/Brisbane:20260322T123000
DTSTAMP:20260424T191501
CREATED:20260202T075530Z
LAST-MODIFIED:20260308T154138Z
UID:10000118-1774029600-1774182600@wildandwisetribe.com.au
SUMMARY:Wild and Wise Tribe Men Wilderness Camp
DESCRIPTION:Wild & Wise Tribe is inviting soulful men to gather and experience the wilderness emerging within your inner nature. This is the second edition of our men’s wilderness camp: a two-night journey\, Friday to Sunday\, unplugging and connecting you with nature and your natural wisdom\, and sharing space with other brothers through meaningful activities. A great opportunity to escape the busyness and distracting world and to focus on aspects of your ancestry\, purpose\, legacy\, and inner guidance.  We will experience together: \n\nCanoeing journey on Lake Cootharaba and the Noosa Everglades\nMindful Bush Walk\nWilderness Camping at the Cooloola National Park\nLife Skills\nSunrise Yoga\nMindfulness exercises and activities\nSharing Circles\nMen’s gathering (brotherhood)\nIcebreakers and energisers\nFacilitated team challenges and group activities\nNature connection and mindfulness activities\n\nOur journey starts on Friday 20th March\, with a men’s fire circle and campsite dinner. We’ll overnight at Habitat Noosa and leave very early for a canoe journey up to the Everglades\, where we’ll stay overnight. On the morning of Sunday 22nd we’ll head back to base. Many activities\, such as yoga\, mindfulness\, icebreakers\, and challenging courses\, will be delivered during the program. \nPlease note: BYO camping gear and snacks.\nCampsite fees\, canoeing hire\, and meals (2 breakfasts / 1 lunch / 2 dinners) are included.\nYou will receive a list of equipment to bring and suggestions for snacks. \nMax: 14 participants.\nBuy now and pay later is available with AfterPay and ZipPay. \nPlease see here some footage from our past event: \n \nFacilitator: \nNelson Eulalio\, Outdoor leader and Nature-based therapist\, founder of Wild and Wise Tribe. Know more about Nelson here \nOr listen to the episode “Find Wisdom in the Wild” by Naturally Unplugged\, featuring Nelson Eulálio: \nhttps://www.youtube.com/watch?v=bl3hK46mYPU \n  \n>>>For bookings and more info:\nhttps://events.humanitix.com/wild-and-wise-tribe-mens-wilderness-camp-autumn-2026 \n  \n\n  \nMore images from our last camp here: \n \n \n \n \n \n \n \n \n \n 
URL:https://wildandwisetribe.com.au/wwt-event/wild-and-wise-tribe-men-wilderness-camp-march2026/
LOCATION:Noosa\, QLD
CATEGORIES:Adults,Men
ATTACH;FMTTYPE=image/jpeg:https://wildandwisetribe.com.au/wp-content/uploads/2026/02/unplug-and-rewind.jpeg
END:VEVENT
BEGIN:VEVENT
DTSTART;TZID=Australia/Brisbane:20260515T180000
DTEND;TZID=Australia/Brisbane:20260517T123000
DTSTAMP:20260424T191501
CREATED:20260227T055352Z
LAST-MODIFIED:20260421T091941Z
UID:10000120-1778868000-1779021000@wildandwisetribe.com.au
SUMMARY:Wild and Wise Tribe FATHER AND SON Wilderness Camp 2026
DESCRIPTION:Wild & Wise Tribe is inviting fathers (or guardians) and teenage sons to gather and experience the wilderness emerging within your inner nature on a two-night journey and wilderness camp\, Friday to Sunday\, unplugging and connecting you with your son\, with nature\, and with your natural wisdom\, and sharing space and building community with other men through meaningful activities. \nIt is a great opportunity to initiate your son into men’s business\, focusing on aspects of your ancestry\, purpose\, legacy\, and inner guidance. We will experience together the following: \n\nCanoeing journey on Lake Cootharaba and the Noosa Everglades\nMindful Bush Walk\nWilderness Camping at the Cooloola National Park\nLife Skills\nSunrise Yoga\nMindfulness exercises and activities\nSharing Circles\nMen’s gathering (brotherhood)\nIcebreakers and energisers\nFacilitated team challenges and group activities\nNature connection and mindfulness activities\n\nOur journey starts on Friday\, 15th May\, with a campsite dinner and a men’s circle. We’ll overnight at Habitat Noosa and leave very early for a canoe journey up to the Everglades\, where we’ll stay overnight. On the morning of Sunday the 17th\, we’ll head back to base. Many activities\, such as yoga\, mindfulness\, icebreakers\, and challenging courses\, will be delivered during the program.. \nPlease note: \n\nBYO camping gear and snacks.\nCampsite fees\, canoeing hire\, and meals (2 breakfasts / 1 lunch / 2 dinners) are included.\nA list of equipment to bring will be sent after booking\nThis is an event for men only\, coming in pairs: one father/guardian and one son/stepson/godson 12-17yo\nEvent format and times may change depending on the weather. A minimum number of participants is necessary for the event to go ahead.\nThis is an alcohol- and drug-free event. \n\nMax: 14 participants (7 pairs)\nBuy now and pay later is available with AfterPay and ZipPay. \nPlease see here some footage from our past event: \n \nFacilitator: \nNelson Eulalio\, Outdoor leader and Nature-based therapist\, founder of Wild and Wise Tribe. Know more about Nelson here \nOr listen to the episode “Find Wisdom in the Wild” by Naturally Unplugged\, featuring Nelson Eulálio: \nhttps://www.youtube.com/watch?v=bl3hK46mYPU \n  \nFor bookings and more info:\nhttps://events.humanitix.com/father-and-son-wilderness-camp-may-2026\n \n  \n\n  \nMore images from our last camp here: \n \n \n \n \n \n \n \n \n \n 
URL:https://wildandwisetribe.com.au/wwt-event/wild-and-wise-tribe-father-and-son-wilderness-camp-may2026/
LOCATION:Sunshine Coast\, QLD\, Sunshine Coast\, QLD\, Australia
CATEGORIES:Adults,Children,Family,Men
ATTACH;FMTTYPE=image/jpeg:https://wildandwisetribe.com.au/wp-content/uploads/2026/02/Father-and-Son.jpg
END:VEVENT
END:VCALENDAR