BEGIN:VCALENDAR
VERSION:2.0
PRODID:-//Wild and Wise Tribe - ECPv6.13.0//NONSGML v1.0//EN
CALSCALE:GREGORIAN
METHOD:PUBLISH
X-ORIGINAL-URL:https://wildandwisetribe.com.au
X-WR-CALDESC:Events for Wild and Wise Tribe
REFRESH-INTERVAL;VALUE=DURATION:PT1H
X-Robots-Tag:noindex
X-PUBLISHED-TTL:PT1H
BEGIN:VTIMEZONE
TZID:Australia/Brisbane
BEGIN:STANDARD
TZOFFSETFROM:+1000
TZOFFSETTO:+1000
TZNAME:AEST
DTSTART:20230101T000000
END:STANDARD
END:VTIMEZONE
BEGIN:VEVENT
DTSTART;TZID=Australia/Brisbane:20240625T083000
DTEND;TZID=Australia/Brisbane:20240628T143000
DTSTAMP:20260424T092207
CREATED:20240514T042827Z
LAST-MODIFIED:20240514T043645Z
UID:10000057-1719304200-1719585000@wildandwisetribe.com.au
SUMMARY:4-day school holiday program: Bush and Life Skills course for KIDS
DESCRIPTION:  \nSchool Holidays program: Bush skills\, mindfulness and survival skills for kids 8-12yo.  \nYour child will learn in four fun days with lessons\, practical skills and games: \n  \nDay1 – Intro + Fire\n-The mindset of survival and the “rules of three”\n-Intro to the human’s 3 centres of intelligence\n-Intro to FIRE element\n-Intro to chi / prana / ki + exercises\n-Fire making\n-Cooking on Fire\n-Planting session \n  \nDay 2 – Earth \n-Intro to the EARTH element\n-Fox walk (Stalking and camouflage)\n-Intro to building traps and hunting tools\n-Intro to Navigation skills\n-Intro to knots and building shelter \n  \nDay 3 – Water + Air\n-Intro to WATER and AIR element & Flow\n-Intro to emotions / emotional regulation techniques\n-Harvesting water (survival)\n-Intro to Navigation skills\n-Intro to breathwork\n-Water practical activity\n-Intro to Nature Communication \n  \nDay 4 – Intro to Wilderness First Aid and Conclusion\n-Intro to Wilderness First Aid\n-Intro to Weather interpretation\n-Mindfulness journey session\nFINAL ASSESSMENT – put all in action! 🙂\n-Conclusion + Certificates \n  \nLocation: Yandina\, QLD \nPlease note: For kids 8-12yo \nFor bookings and more info: \nhttps://www.eventbrite.com.au/e/4-day-school-holiday-program-bush-and-life-skills-course-for-kids-registration-902867991467 \n 
URL:https://wildandwisetribe.com.au/wwt-event/4-day-school-holiday-program-bush-and-life-skills-course-for-kids-2/
LOCATION:Yandina\, QLD\, Yandina\, QLD\, 4561\, Australia
CATEGORIES:Children,Family
ATTACH;FMTTYPE=image/jpeg:https://wildandwisetribe.com.au/wp-content/uploads/2024/05/4day_course_bushskills_WWT_JUN24.jpg
END:VEVENT
BEGIN:VEVENT
DTSTART;TZID=Australia/Brisbane:20240518T090000
DTEND;TZID=Australia/Brisbane:20240518T120000
DTSTAMP:20260424T092207
CREATED:20240514T051137Z
LAST-MODIFIED:20240514T051137Z
UID:10000064-1716022800-1716033600@wildandwisetribe.com.au
SUMMARY:Wild & Wise Tribe Family Bushwalk & Nature Connection
DESCRIPTION:A family-friendly bushwalk with nature-connection activities and BYO picnic. The walks will change each time but all in the Sunshine Coast and surrounds. \nThe meetup place will be shared and more detailed information available at the Eventbrite event link. \nPlease bring your food\, as we will stop for a picnic. Sun smart clothes\, hat\, enclosed shoes\, and water bottles are fully recommended\, as well as rain jacket if there is a chance of rain. \nPlease note: \nParents/guardians are fully responsible for their children and should join the whole walk.\nThis is a free event (donations are appreciated). Please book one ticket per person (parents and kids) \n  \n 
URL:https://wildandwisetribe.com.au/wwt-event/wild-wise-tribe-family-bushwalk-nature-connection/
LOCATION:QLD
CATEGORIES:Adults,Children,Family,Teens
ATTACH;FMTTYPE=image/jpeg:https://wildandwisetribe.com.au/wp-content/uploads/2024/05/wwt_Family_bushwalk2.jpg
END:VEVENT
BEGIN:VEVENT
DTSTART;TZID=Australia/Brisbane:20240428T090000
DTEND;TZID=Australia/Brisbane:20240428T120000
DTSTAMP:20260424T092207
CREATED:20240131T200926Z
LAST-MODIFIED:20240403T014417Z
UID:10000045-1714294800-1714305600@wildandwisetribe.com.au
SUMMARY:Intro to Spirit Animal and Nature Communication (for KIDS)
DESCRIPTION:A fun journey through the imagination\, understanding archetypes and symbolism in nature. This workshop is focused on how we can keep open the connection to nature and communicate with their higher-self and intuition. In this workshop your child will also join a drumming journey to find their spirit animal\, sharing\, and know how to develop and/or improve that connection afterwards. They will also join some facilitated activities/play and use their creativity at an art/craft session.  \nLocation: In a bush setting in the beautiful Sunshine Coast hinterland at the historic Belli Park Hall. 10 mins from Eumundi. \nPlease note: For KIDS 7-12 yo. A parent\, guardian or responsible adult must stay over per signed group of children.. This is NOT a drop off event. \nFor bookings and more info: \nhttps://www.eventbrite.com.au/e/intro-to-spirit-animal-and-nature-communication-for-kids-registration-797526712867 \n  \n  \n \n \n \n \n  
URL:https://wildandwisetribe.com.au/wwt-event/intro-to-spirit-animal-and-nature-communication-for-kids-april2024/
LOCATION:Belli Park Community Hall\, 1170 Eumundi Kenilworth Rd\, Belli Park\, QLD\, 4562\, Australia
CATEGORIES:Children,Family
ATTACH;FMTTYPE=image/jpeg:https://wildandwisetribe.com.au/wp-content/uploads/2024/02/Intro_to_spirit_animal_WWT_header_KIDS_APRIL2024.jpg
END:VEVENT
BEGIN:VEVENT
DTSTART;TZID=Australia/Brisbane:20240409T083000
DTEND;TZID=Australia/Brisbane:20240412T143000
DTSTAMP:20260424T092207
CREATED:20240310T135808Z
LAST-MODIFIED:20240318T212803Z
UID:10000049-1712651400-1712932200@wildandwisetribe.com.au
SUMMARY:4-day school holiday program: Bush and Life Skills course for kids
DESCRIPTION:  \nSchool Holidays program: Bush skills\, mindfulness and survival skills for kids 8-12yo.  \nYour child will learn in four fun days with lessons\, practical skills and games: \n  \nDay1 – Intro + Fire\n-The mindset of survival and the “rules of three”\n-Intro to the human’s 3 centres of intelligence\n-Intro to FIRE element\n-Intro to chi / prana / ki + exercises\n-Fire making\n-Cooking on Fire\n-Planting session \n  \nDay 2 – Earth \n-Intro to the EARTH element\n-Fox walk (Stalking and camouflage)\n-Intro to building traps and hunting tools\n-Intro to Navigation skills\n-Intro to knots and building shelter \n  \nDay 3 – Water + Air\n-Intro to WATER and AIR element & Flow\n-Intro to emotions / emotional regulation techniques\n-Harvesting water (survival)\n-Intro to Navigation skills\n-Intro to breathwork\n-Water practical activity\n-Intro to Nature Communication \n  \nDay 4 – Intro to Wilderness First Aid and Conclusion\n-Intro to Wilderness First Aid\n-Intro to Weather interpretation\n-Mindfulness journey session\nFINAL ASSESSMENT – put all in action! 🙂\n-Conclusion + Certificates \n  \nLocation: Yandina\, QLD \nPlease note: For kids 8-12yo \nFor bookings and more info:\nhttps://www.eventbrite.com.au/e/4-day-school-holiday-program-bush-and-life-skills-course-for-kids-registration-853420362277
URL:https://wildandwisetribe.com.au/wwt-event/4-day-school-holiday-program-bush-and-life-skills-course-for-kids/
LOCATION:Yandina\, QLD\, Yandina\, QLD\, 4561\, Australia
CATEGORIES:Children,Family
ATTACH;FMTTYPE=image/jpeg:https://wildandwisetribe.com.au/wp-content/uploads/2024/03/4day_course_bushskills_WWT_9APR24-1.jpg
END:VEVENT
BEGIN:VEVENT
DTSTART;TZID=Australia/Brisbane:20240324T083000
DTEND;TZID=Australia/Brisbane:20240324T143000
DTSTAMP:20260424T092207
CREATED:20240202T044134Z
LAST-MODIFIED:20240213T213336Z
UID:10000046-1711269000-1711290600@wildandwisetribe.com.au
SUMMARY:Intro to Bush Skills\, Mindfulness & Survival Techniques for kids
DESCRIPTION:6-hour workshop for kids 7+. Techniques to build resilience and awareness\, how to make fire\, gather water and build a shelter. \nBush skills\, mindfulness and survival skills for kids 7-12yo. Your child will learn in a fun day: \n\nThe mindset of survival and the “rules of three”\nHow to make fire using different modalities\nPrepare food and cook on fire\nHow to gather and treat water in the wilderness\nKnots and how to build shelter\n\nLocation: Yandina\, QLD \nPlease note: For kids 7-12yo \nFor more information about the facilitator: www.wildandwisetribe.com.au \nFor bookings and more info:\nhttps://www.eventbrite.com.au/e/intro-to-bush-skills-mindfulness-survival-techniques-for-kids-registration-814602817957
URL:https://wildandwisetribe.com.au/wwt-event/intro-to-bush-skills-mindfulness-survival-techniques-for-kids-march2024/
LOCATION:Yandina\, QLD\, Yandina\, QLD\, 4561\, Australia
CATEGORIES:Children,Family
ATTACH;FMTTYPE=image/jpeg:https://wildandwisetribe.com.au/wp-content/uploads/2024/02/Intro_to_bushskills_WWT_header_Mar24.jpg
END:VEVENT
BEGIN:VEVENT
DTSTART;TZID=Australia/Brisbane:20240116T083000
DTEND;TZID=Australia/Brisbane:20240119T143000
DTSTAMP:20260424T092207
CREATED:20231215T042005Z
LAST-MODIFIED:20231222T014624Z
UID:10000040-1705393800-1705674600@wildandwisetribe.com.au
SUMMARY:4-day school holiday program: Bush and Life Skills course for kids
DESCRIPTION:  \nSchool Holidays program: Bush skills\, mindfulness and survival skills for kids 7-12yo.  \nYour child will learn in four fun days with lessons\, practical skills and games: \n  \nDay1 – Intro + Fire\n-The mindset of survival and the “rules of three”\n-Intro to the human’s 3 centres of intelligence\n-Intro to FIRE element\n-Intro to chi / prana / ki + exercises\n-Fire making\n-Cooking on Fire\n-Planting session \n  \nDay 2 – Earth \n-Intro to the EARTH element\n-Fox walk (Stalking and camouflage)\n-Intro to building traps and hunting tools\n-Intro to Navigation skills\n-Intro to knots and building shelter \n  \nDay 3 – Water + Air\n-Intro to WATER and AIR element & Flow\n-Intro to emotions / emotional regulation techniques\n-Harvesting water (survival)\n-Intro to Navigation skills\n-Intro to breathwork\n-Water practical activity\n-Intro to Nature Communication \n  \nDay 4 – Intro to Wilderness First Aid and Conclusion\n-Intro to Wilderness First Aid\n-Intro to Weather interpretation\n-Mindfulness journey session\nFINAL ASSESSMENT – put all in action! 🙂\n-Conclusion + Certificates \n  \nLocation: Yandina\, QLD \nPlease note: For kids 7-12yo \nFor bookings and more info:\nhttps://www.eventbrite.com/e/4-day-school-holiday-program-bush-and-life-skills-course-for-kids-registration-778045754797
URL:https://wildandwisetribe.com.au/wwt-event/4day-school_holiday-bushskills-for-kids/
LOCATION:Yandina\, QLD\, Yandina\, QLD\, 4561\, Australia
CATEGORIES:Children,Family
ATTACH;FMTTYPE=image/jpeg:https://wildandwisetribe.com.au/wp-content/uploads/2023/12/4day_course_bushskills_WWT_16JAN24-1.jpg
END:VEVENT
BEGIN:VEVENT
DTSTART;TZID=Australia/Brisbane:20240112T083000
DTEND;TZID=Australia/Brisbane:20240112T143000
DTSTAMP:20260424T092207
CREATED:20231222T014837Z
LAST-MODIFIED:20231222T014840Z
UID:10000039-1705048200-1705069800@wildandwisetribe.com.au
SUMMARY:Intro to Bush Skills\, Mindfulness & Survival Techniques for kids
DESCRIPTION:6-hour workshop for kids 7+. Techniques to build resilience and awareness\, how to make fire\, gather water and build a shelter. \nBush skills\, mindfulness and survival skills for kids 7-12yo. Your child will learn in a fun day: \n\nThe mindset of survival and the “rules of three”\nHow to make fire using different modalities\nPrepare food and cook on fire\nHow to gather and treat water in the wilderness\nKnots and how to build shelter\n\nLocation: Yandina\, QLD \nPlease note: For kids 7-12yo \nFor more information about the facilitator: www.wildandwisetribe.com.au \nFor bookings and more info:\nhttps://www.eventbrite.com/e/intro-to-bush-skills-mindfulness-survival-techniques-for-kids-registration-766713158697
URL:https://wildandwisetribe.com.au/wwt-event/intro-to-bush-skills-mindfulness-survival-techniques-for-kids-6-2/
LOCATION:Yandina\, QLD\, Yandina\, QLD\, 4561\, Australia
CATEGORIES:Children,Family
ATTACH;FMTTYPE=image/jpeg:https://wildandwisetribe.com.au/wp-content/uploads/2023/12/Intro_to_bushskills_WWT_header_12JAN24-1.jpg
END:VEVENT
BEGIN:VEVENT
DTSTART;TZID=Australia/Brisbane:20231119T073000
DTEND;TZID=Australia/Brisbane:20231119T133000
DTSTAMP:20260424T092207
CREATED:20230930T015954Z
LAST-MODIFIED:20231101T135133Z
UID:10000036-1700379000-1700400600@wildandwisetribe.com.au
SUMMARY:Intro to Bush Skills\, Mindfulness & Survival Techniques for kids - November
DESCRIPTION:[vc_row][vc_column][vc_column_text] \n6-hour workshop for kids 7+. Techniques to build resilience and awareness\, how to make fire\, gather water and build a shelter. \nBush skills\, mindfulness and survival skills for kids 7-12yo. Your child will learn in a fun day: \n\nThe mindset of survival and the “rules of three”\nHow to make fire using different modalities\nPrepare food and cook on fire\nHow to gather and treat water in the wilderness\nKnots and how to build shelter\n\nLocation: Yandina\, QLD \nPlease note: For kids 7-12yo \nFor more information about the facilitator: www.wildandwisetribe.com.au \nFor bookings and more info:\nhttps://www.eventbrite.com.au/e/intro-to-bush-skills-mindfulness-survival-techniques-for-kids-registration-749833952537 \n  \n  \n[/vc_column_text][vc_gallery interval=”3″ images=”33555\,33556\,33557\,33559\,33558″][/vc_column][/vc_row]
URL:https://wildandwisetribe.com.au/wwt-event/intro-to-bush-skills-mindfulness-survival-techniques-for-kids-november/
LOCATION:Yandina\, QLD\, Yandina\, QLD\, 4561\, Australia
CATEGORIES:Children,Family
ATTACH;FMTTYPE=image/jpeg:https://wildandwisetribe.com.au/wp-content/uploads/2023/09/Intro_to_bushskills_WWT_header_NOVEMBER19.jpg
END:VEVENT
BEGIN:VEVENT
DTSTART;TZID=Australia/Brisbane:20231008T080000
DTEND;TZID=Australia/Brisbane:20231008T110000
DTSTAMP:20260424T092207
CREATED:20230811T141408Z
LAST-MODIFIED:20230927T063422Z
UID:10000033-1696752000-1696762800@wildandwisetribe.com.au
SUMMARY:Intro to Spirit Animal and Nature Communication (for KIDS)
DESCRIPTION:A fun journey through the imagination\, understanding archetypes and symbolism in nature. This workshop is focused on how we can keep open the connection to nature and communicate with their higher-self and intuition. In this workshop your child will also join a drumming journey to find their spirit animal\, sharing\, and know how to develop and/or improve that connection afterwards. They will also join some facilitated activities/play and use their creativity at an art/craft session.  \nLocation: In a bush setting in the beautiful Sunshine Coast hinterland at the historic Belli Park Hall. 10 mins from Eumundi. \nPlease note: For KIDS 7-12 yo. Parent or caregiver must stay over. This is NOT a drop off event. \nFor bookings For bookings and more info: \nhttps://www.eventbrite.com.au/e/696579868137
URL:https://wildandwisetribe.com.au/wwt-event/intro-to-spirit-animal-and-nature-communication-for-kids/
LOCATION:Belli Park Community Hall\, 1170 Eumundi Kenilworth Rd\, Belli Park\, QLD\, 4562\, Australia
CATEGORIES:Children,Family
ATTACH;FMTTYPE=image/jpeg:https://wildandwisetribe.com.au/wp-content/uploads/2023/08/Intro_to_spirit_animal_WWT_header_KIDS_Oct.jpg
END:VEVENT
BEGIN:VEVENT
DTSTART;TZID=Australia/Brisbane:20230910T083000
DTEND;TZID=Australia/Brisbane:20230910T143000
DTSTAMP:20260424T092207
CREATED:20230814T033653Z
LAST-MODIFIED:20230814T034142Z
UID:10000034-1694334600-1694356200@wildandwisetribe.com.au
SUMMARY:Intro to Bush Skills\, Mindfulness & Survival Techniques for kids
DESCRIPTION:6-hour workshop for kids 7+. Techniques to build resilience and awareness\, how to make fire\, gather water and build a shelter. \nBush skills\, mindfulness and survival skills for kids 7-12yo. Your child will learn in a fun day: \n\nThe mindset of survival and the “rules of three”\nHow to make fire using different modalities\nPrepare food and cook on fire\nHow to gather and treat water in the wilderness\nKnots and how to build shelter\n\nLocation: Yandina\, QLD \nPlease note: For kids 7-12yo \nFor more information about the facilitator: www.wildandwisetribe.com.au \nFor bookings and more info:\nhttps://www.eventbrite.com/e/intro-to-bush-skills-mindfulness-survival-techniques-for-kids-registration-698175450567
URL:https://wildandwisetribe.com.au/wwt-event/intro-to-bush-skills-mindfulness-survival-techniques-for-kids-5/
LOCATION:Yandina\, QLD\, Yandina\, QLD\, 4561\, Australia
CATEGORIES:Children,Family
ATTACH;FMTTYPE=image/jpeg:https://wildandwisetribe.com.au/wp-content/uploads/2023/08/Intro_to_bushskills_WWT_header_SEP23.jpg
END:VEVENT
BEGIN:VEVENT
DTSTART;TZID=Australia/Brisbane:20230806T083000
DTEND;TZID=Australia/Brisbane:20230806T143000
DTSTAMP:20260424T092207
CREATED:20230713T112546Z
LAST-MODIFIED:20230713T113448Z
UID:10000031-1691310600-1691332200@wildandwisetribe.com.au
SUMMARY:Intro to Bush Skills\, Mindfulness & Survival Techniques for kids
DESCRIPTION:6-hour workshop for kids 7+. Techniques to build resilience and awareness\, how to make fire\, gather water and build a shelter. \nBush skills\, mindfulness and survival skills for kids 7-12yo. Your child will learn in a fun day: \n\nThe mindset of survival and the “rules of three”\nHow to make fire using different modalities\nPrepare food and cook on fire\nHow to gather and treat water in wilderness\nKnots and how to build shelter\n\nLocation: Yandina\, QLD \nPlease note: For kids 7+  \nFor more information about the facilitator: www.wildandwisetribe.com.au \nFor bookings and more info:\nhttps://www.eventbrite.com.au/e/intro-to-bush-skills-mindfulness-survival-techniques-for-kids-registration-677166131127
URL:https://wildandwisetribe.com.au/wwt-event/intro-to-bush-skills-mindfulness-survival-techniques-for-kids-4/
LOCATION:Yandina\, QLD\, Yandina\, QLD\, 4561\, Australia
CATEGORIES:Children,Family
ATTACH;FMTTYPE=image/jpeg:https://wildandwisetribe.com.au/wp-content/uploads/2023/07/Intro_to_bushskills_WWT_header_August.jpg
END:VEVENT
BEGIN:VEVENT
DTSTART;TZID=Australia/Brisbane:20230723T083000
DTEND;TZID=Australia/Brisbane:20230723T143000
DTSTAMP:20260424T092207
CREATED:20230628T060035Z
LAST-MODIFIED:20230628T060035Z
UID:10000028-1690101000-1690122600@wildandwisetribe.com.au
SUMMARY:Intro to Bush Skills\, Mindfulness & Survival Techniques for kids
DESCRIPTION:6-hour workshop for kids 7+. Techniques to build resilience and awareness\, how to make fire\, gather water and build a shelter. \nBush skills\, mindfulness and survival skills for kids 7+. Your child will learn in a fun day: \n\nThe mindset of survival and the “rules of three”\nHow to make fire using different modalities\nPrepare food and cook on fire\nHow to gather and treat water in wilderness\nKnots and how to build shelter\n\nLocation: Yandina\, QLD \nPlease note: For kids 7+  \nFor more information about the facilitator: www.wildandwisetribe.com.au
URL:https://wildandwisetribe.com.au/wwt-event/intro-to-bush-skills-mindfulness-survival-techniques-for-kids-3/
LOCATION:Yandina\, QLD\, Yandina\, QLD\, 4561\, Australia
CATEGORIES:Children,Family
ATTACH;FMTTYPE=image/jpeg:https://wildandwisetribe.com.au/wp-content/uploads/2023/06/Screenshot_20230628_155900_Business-Suite.jpg
END:VEVENT
BEGIN:VEVENT
DTSTART;TZID=Australia/Brisbane:20230626T093000
DTEND;TZID=Australia/Brisbane:20230628T123000
DTSTAMP:20260424T092207
CREATED:20230624T070421Z
LAST-MODIFIED:20230625T024730Z
UID:10000025-1687771800-1687955400@wildandwisetribe.com.au
SUMMARY:Bushland Holiday Program
DESCRIPTION:Children and families will love these seasonally inspired activities\, presented by leading nature play facilitators.  Held in the beautiful bushland where nature is our teacher and inspiration\, the holiday program helps kids develop confidence in outdoor play and stewardship for the biosphere\, whilst learning bushcraft skills and creative arts. \nCelebrate winter this school holidays: \n\n\nMONDAY 26: ANIMAL TALK with Nelson from WILD & WISE TRIBE\n\nTuesday 27: Whipbirds\, Warmth and Wonder with Sammy from children’s Blue Sky Minds\nWednesday 28: Make a Dream Pillow with Carly from Natureweavers\nThursday 29: Fairy Fire and Wands with Carly from Natureweavers\n\nAll activities begin at the Whipbird Shelter\, adjacent to the Whipbird Village nature play area in the lower part of the Maroochy Regional Bushland Botanic Garden\, unless otherwise specified. \nRegistration is essential. Get in quick! Spaces are limited and these workshops will sell out.
URL:https://wildandwisetribe.com.au/wwt-event/bushland-holiday-program/
LOCATION:Maroochy Regional Bushland Botanic Garden\, 51 Palm Creek Road\, Tanawha\, QLD\, 4556\, Australia
CATEGORIES:Children,Family
ATTACH;FMTTYPE=image/jpeg:https://wildandwisetribe.com.au/wp-content/uploads/2023/06/354045336_667133245458307_4787614712018455628_n3.jpg
END:VEVENT
BEGIN:VEVENT
DTSTART;TZID=Australia/Brisbane:20230430T080000
DTEND;TZID=Australia/Brisbane:20230430T140000
DTSTAMP:20260424T092207
CREATED:20230626T051246Z
LAST-MODIFIED:20230626T051246Z
UID:10000026-1682841600-1682863200@wildandwisetribe.com.au
SUMMARY:Intro to Bush Skills\, Mindfulness & Survival Techniques for kids
DESCRIPTION:6-hour workshop for kids 7+. Techniques to build resilience and awareness\, how to make fire\, gather water and build a shelter. \nBush skills\, mindfulness and survival skills for kids 7+. Your child will learn in a fun day: \n\nThe mindset of survival and the “rules of three”\nHow to make fire using different modalities\nPrepare food and cook on fire\nHow to gather and treat water from wilderness\nKnots and how to build shelter\nBBQ lunch and refreshments included \n\nLocation: In the Black Belt Farm\, syntropic and permaculture residence\, 10 mins from Burleigh Heads. \nPlease note: For kids 7+  \nFor more information about the facilitator: www.wildandwisetribe.com.au
URL:https://wildandwisetribe.com.au/wwt-event/intro-to-bush-skills-mindfulness-survival-techniques-for-kids-2/
LOCATION:Black Belt Farm\, 1127 Tallebudgera Creek Rd\, Tallebudgera Valley\, QLD\, 4228\, Australia
CATEGORIES:Children,Family
ATTACH;FMTTYPE=image/jpeg:https://wildandwisetribe.com.au/wp-content/uploads/2023/06/Intro_to_bushskills_WWT_april_header.jpg
END:VEVENT
BEGIN:VEVENT
DTSTART;TZID=Australia/Brisbane:20230326T070000
DTEND;TZID=Australia/Brisbane:20230326T130000
DTSTAMP:20260424T092207
CREATED:20230623T073026Z
LAST-MODIFIED:20230624T050417Z
UID:10000020-1679814000-1679835600@wildandwisetribe.com.au
SUMMARY:Intro to Bush Skills\, Mindfulness & Survival Techniques for kids
DESCRIPTION:6-hour workshop for kids 7+. Techniques to build resilience and awareness\, how to make fire\, gather water and build a shelter. \nBush skills\, mindfulness and survival skills for kids 7+. Your child will learn in a fun day: \n\nThe mindset of survival and the “rules of three”\nHow to make fire using different modalities\nPrepare food and cook on fire\nHow to gather and treat water from wilderness\nKnots and how to build shelter\nBBQ lunch and refreshments included \n\nLocation: In the Black Belt Farm\, syntropic and permaculture residence\, 10 mins from Burleigh Heads. \nPlease note: For kids 7+  \nFor more information about the facilitator: www.wildandwisetribe.com.au
URL:https://wildandwisetribe.com.au/wwt-event/intro-to-bush-skills-mindfulness-survival-techniques-for-kids/
LOCATION:Black Belt Farm\, 1127 Tallebudgera Creek Rd\, Tallebudgera Valley\, QLD\, 4228\, Australia
CATEGORIES:Children,Family
ATTACH;FMTTYPE=image/jpeg:https://wildandwisetribe.com.au/wp-content/uploads/2023/06/Intro_to_bushskills_WWT_header.jpg
END:VEVENT
END:VCALENDAR