BEGIN:VCALENDAR
VERSION:2.0
PRODID:-//Wild and Wise Tribe - ECPv6.13.0//NONSGML v1.0//EN
CALSCALE:GREGORIAN
METHOD:PUBLISH
X-ORIGINAL-URL:https://wildandwisetribe.com.au
X-WR-CALDESC:Events for Wild and Wise Tribe
REFRESH-INTERVAL;VALUE=DURATION:PT1H
X-Robots-Tag:noindex
X-PUBLISHED-TTL:PT1H
BEGIN:VTIMEZONE
TZID:Australia/Brisbane
BEGIN:STANDARD
TZOFFSETFROM:+1000
TZOFFSETTO:+1000
TZNAME:AEST
DTSTART:20240101T000000
END:STANDARD
END:VTIMEZONE
BEGIN:VEVENT
DTSTART;TZID=Australia/Brisbane:20240924T083000
DTEND;TZID=Australia/Brisbane:20240926T143000
DTSTAMP:20260425T224943
CREATED:20240725T235222Z
LAST-MODIFIED:20240913T034219Z
UID:10000070-1727166600-1727361000@wildandwisetribe.com.au
SUMMARY:3-day school holiday program: Bush and Life Skills course for Teens
DESCRIPTION:SCHOOL HOLIDAYS program: Bush skills\, mindfulness and survival skills for teens 12-16yo. Your teen will learn in four fun days with lessons\, practical skills and games: \n  \nDay 1 – Intro + Earth\n-The mindset of survival and the “rules of three”\n-Intro to the EARTH element\n-Fox walk (Stalking and camouflage)\n-Intro to building traps and hunting tools\n-Intro to Navigation skills\n-Intro to knots and building shelter \n  \nDay2- Fire + Water\n-Intro to human’s 3 centres of intelligence\n-Intro to FIRE element\n-Intro to chi/prana/ki + exercises\n-Fire making\n-Cooking on Fire\n-Intro to WATER and AIR element & Flow\n-Intro to emotions / emotional regulation techniques\n-Harvesting water (survival)\n-Intro to Navigation skills \n  \nDay 3 -Air + Spirit + Conclusion\n-Intro to Wilderness First Aid\n-Intro to Weather interpretation\n-Intro to breathwork\n-Intro to Nature Communication\n-Mindfulness journey session\nFINAL ASSESSMENT – put all in action! 🙂\n-Conclusion + Certificates \nPlease note: Program subject to modifications depending on weather and other factors \n  \n \n  \n— \nLocation: Wild & Wise Tribe\, 6 mins from Yandina town centre. \nPlease note: For teens 12-16yo Daily drop-offs and pick-ups \nFor bookings and more info: \nhttps://www.eventbrite.com.au/e/952198059027
URL:https://wildandwisetribe.com.au/wwt-event/3-day-school-holiday-program-bush-and-life-skills-course-for-teens-3/
LOCATION:Sunshine Coast\, QLD\, Sunshine Coast\, QLD\, Australia
CATEGORIES:Children
ATTACH;FMTTYPE=image/jpeg:https://wildandwisetribe.com.au/wp-content/uploads/2024/07/Intro_to_bushskills-WWT_SEP24_teens-1.jpg
END:VEVENT
BEGIN:VEVENT
DTSTART;TZID=Australia/Brisbane:20240927T083000
DTEND;TZID=Australia/Brisbane:20240927T143000
DTSTAMP:20260425T224943
CREATED:20240725T233508Z
LAST-MODIFIED:20240725T233508Z
UID:10000071-1727425800-1727447400@wildandwisetribe.com.au
SUMMARY:Intro to Bush Skills\, Mindfulness & Survival Techniques for kids
DESCRIPTION:6-hour workshop for kids 8+. Techniques to build resilience and awareness\, how to make fire\, gather water and build a shelter. \nBush skills\, mindfulness and survival skills for kids 8-12yo. Your child will learn in a fun day: \n\nThe mindset of survival and the “rules of three”\nHow to make fire using different modalities\nPrepare food and cook on fire\nHow to gather and treat water in the wilderness\nKnots and how to build shelter\n\nLocation: Yandina\, QLD \nPlease note: For kids 8-12yo \nFor more information about the facilitator: www.wildandwisetribe.com.au \nFor bookings and more info: \nhttps://www.eventbrite.com.au/e/intro-to-bush-skills-mindfulness-survival-techniques-for-kids-registration-952197587617
URL:https://wildandwisetribe.com.au/wwt-event/intro-to-bush-skills-mindfulness-survival-techniques-for-kids-8/
LOCATION:Yandina\, QLD\, Yandina\, QLD\, 4561\, Australia
CATEGORIES:Children,Family
ATTACH;FMTTYPE=image/jpeg:https://wildandwisetribe.com.au/wp-content/uploads/2024/07/Intro_to_bushskills-WWT_sep24_oneday.jpg
END:VEVENT
END:VCALENDAR