BEGIN:VCALENDAR
VERSION:2.0
PRODID:-//Wild and Wise Tribe - ECPv6.13.0//NONSGML v1.0//EN
CALSCALE:GREGORIAN
METHOD:PUBLISH
X-WR-CALNAME:Wild and Wise Tribe
X-ORIGINAL-URL:https://wildandwisetribe.com.au
X-WR-CALDESC:Events for Wild and Wise Tribe
REFRESH-INTERVAL;VALUE=DURATION:PT1H
X-Robots-Tag:noindex
X-PUBLISHED-TTL:PT1H
BEGIN:VTIMEZONE
TZID:Australia/Brisbane
BEGIN:STANDARD
TZOFFSETFROM:+1000
TZOFFSETTO:+1000
TZNAME:AEST
DTSTART:20240101T000000
END:STANDARD
END:VTIMEZONE
BEGIN:VEVENT
DTSTART;TZID=Australia/Brisbane:20240917T083000
DTEND;TZID=Australia/Brisbane:20240920T143000
DTSTAMP:20260425T203925
CREATED:20240606T010623Z
LAST-MODIFIED:20240913T034518Z
UID:10000067-1726561800-1726842600@wildandwisetribe.com.au
SUMMARY:4-day school holiday program: Bush and Life Skills course for KIDS
DESCRIPTION:School Holidays program: Bush skills\, mindfulness and survival skills for kids 8-12yo.  \nYour child will learn in four fun days with lessons\, practical skills and games: \n  \nDay1 – Intro + Fire\n-The mindset of survival and the “rules of three”\n-Intro to the human’s 3 centres of intelligence\n-Intro to FIRE element\n-Intro to chi / prana / ki + exercises\n-Fire making\n-Cooking on Fire\n-Planting session \n  \nDay 2 – Earth \n-Intro to the EARTH element\n-Fox walk (Stalking and camouflage)\n-Intro to building traps and hunting tools\n-Intro to Navigation skills\n-Intro to knots and building shelter \n  \nDay 3 – Water + Air\n-Intro to WATER and AIR element & Flow\n-Intro to emotions / emotional regulation techniques\n-Harvesting water (survival)\n-Intro to Navigation skills\n-Intro to breathwork\n-Water practical activity\n-Intro to Nature Communication \n  \nDay 4 – Intro to Wilderness First Aid and Conclusion\n-Intro to Wilderness First Aid\n-Intro to Weather interpretation\n-Mindfulness journey session\nFINAL ASSESSMENT – put all in action! 🙂\n-Conclusion + Certificates \n  \n \n  \n  \nLocation: Yandina\, QLD \nPlease note: For kids 8-12yo Daily drop-offs and pick-ups \nFor bookings and more info: \nhttps://www.eventbrite.com.au/e/952198670857 \n  \n 
URL:https://wildandwisetribe.com.au/wwt-event/4-day-school-holiday-program-bush-and-life-skills-course-for-kids-3/
LOCATION:Sunshine Coast\, QLD\, Sunshine Coast\, QLD\, Australia
CATEGORIES:Children
ATTACH;FMTTYPE=image/jpeg:https://wildandwisetribe.com.au/wp-content/uploads/2024/07/Intro_to_bushskills-WWT_SEP24_kids.jpg
END:VEVENT
END:VCALENDAR