BEGIN:VCALENDAR
VERSION:2.0
PRODID:-//Wild and Wise Tribe - ECPv6.13.0//NONSGML v1.0//EN
CALSCALE:GREGORIAN
METHOD:PUBLISH
X-WR-CALNAME:Wild and Wise Tribe
X-ORIGINAL-URL:https://wildandwisetribe.com.au
X-WR-CALDESC:Events for Wild and Wise Tribe
REFRESH-INTERVAL;VALUE=DURATION:PT1H
X-Robots-Tag:noindex
X-PUBLISHED-TTL:PT1H
BEGIN:VTIMEZONE
TZID:Australia/Brisbane
BEGIN:STANDARD
TZOFFSETFROM:+1000
TZOFFSETTO:+1000
TZNAME:AEST
DTSTART:20250101T000000
END:STANDARD
END:VTIMEZONE
BEGIN:VEVENT
DTSTART;TZID=Australia/Brisbane:20250823T083000
DTEND;TZID=Australia/Brisbane:20250823T143000
DTSTAMP:20260424T173131
CREATED:20250626T114016Z
LAST-MODIFIED:20250708T091025Z
UID:10000090-1755937800-1755959400@wildandwisetribe.com.au
SUMMARY:Intro to Bush Skills and Survival Techniques for kids with disabilities*
DESCRIPTION:6-hour workshop for kids with disabilities* and carers. Techniques to build resilience and awareness\, how to make fire\, gather water\, and build a shelter. \nBush skills\, mindfulness and survival skills for kids with special needs 8-12yo. Your child will learn in a fun day: \n\nThe mindset of survival and the “rules of three”\nHow to make fire using different modalities\nPrepare food and cook over fire\nHow to gather and treat water in the wilderness\nKnots and how to build a shelter\n\nLocation: Wild & Wise Tribe\, 6 mins from Yandina town centre. \nThe exact address will be provided after the ticket is purchased. \nPlease note: For kids 8-12yo. Kids must be accompanied by carers who will be the responsible adults. \n*Disabilities suitable for the workshop: ADHD\, ASD level 1 and 2\, Anxiety\, Depression\, Dyslexia\, and some motor disabilities. Please send us a message at hello@wildandwisetribe.com.au or 0402 917 617 to check the suitability of the child. \nLocation: Wild & Wise Tribe\, 6 mins from Yandina town centre. The exact address will be provided after the ticket is purchased. \n  \nFacilitators: \nNelson Eulalio\, Wild & Wise Tribe’s founder\, holistic counsellor and qualified outdoor education facilitator. Nelson has already worked as support worker. More about Nelson here: https://wildandwisetribe.com.au/team/nelson-eulalio/\nFernanda Padilha\, neuropsychologist\, outdoor education facilitator\, and support worker. More about Fernanda here: https://wildandwisetribe.com.au/team/fernanda-padilha/ \nFor bookings and more info: \nhttps://events.humanitix.com/intro-to-bush-skills-mindfulness-and-survival-techniques-for-kids-dis \n 
URL:https://wildandwisetribe.com.au/wwt-event/intro-to-bush-skills-mindfulness-survival-techniques-for-kids-with-disabilities/
LOCATION:Yandina\, QLD\, Yandina\, QLD\, 4561\, Australia
CATEGORIES:Children,Family,special needs
ATTACH;FMTTYPE=image/jpeg:https://wildandwisetribe.com.au/wp-content/uploads/2025/06/WhatsApp-Image-2025-07-08-at-14.41.28.jpeg
END:VEVENT
BEGIN:VEVENT
DTSTART;TZID=Australia/Brisbane:20250830T120000
DTEND;TZID=Australia/Brisbane:20250830T140000
DTSTAMP:20260424T173131
CREATED:20250825T231919Z
LAST-MODIFIED:20250825T233021Z
UID:10000103-1756555200-1756562400@wildandwisetribe.com.au
SUMMARY:The Little White Castle Book Launch
DESCRIPTION:Join NELSON EULALIO for the launch of his new book “The Little White Castle”\, a story of a prince and his adventures and misadventures on the journey to becoming a king. Inspired by the Rites of Passage framework and its endless symbolism\, this book is a tale of resilience in the face of adversity. It tells the challenges and lessons based on the four elements and the alchemical transformation within helped by nature. Narrated as a parable\, this storytelling suits boys aged from 7 to 70 years old. \n\n\n\nDate: 30th August 2025 | 12pm to 2pm \nAddress: Annie’s Books on Peregian \n8 Kingfisher Drive\, Peregian Beach\, QLD\, Australia\, Queensland \nBook reading: 1pm \nCelebration at the Peregian Park\, just across the road from the bookstore\, as a picnic with friends \n  \nSome books to be autographed will be available at the bookstore.
URL:https://wildandwisetribe.com.au/wwt-event/the-little-white-castle-book-launch-aug2025/
LOCATION:Annie’s Books on Peregian
CATEGORIES:Children,Family,Men
ATTACH;FMTTYPE=image/jpeg:https://wildandwisetribe.com.au/wp-content/uploads/2025/08/WhatsApp-Image-2025-08-25-at-22.06.05.jpeg
END:VEVENT
BEGIN:VEVENT
DTSTART;TZID=Australia/Brisbane:20250831T083000
DTEND;TZID=Australia/Brisbane:20250831T143000
DTSTAMP:20260424T173131
CREATED:20250708T105137Z
LAST-MODIFIED:20250822T043333Z
UID:10000091-1756629000-1756650600@wildandwisetribe.com.au
SUMMARY:Intro to Bush Skills\, Mindfulness & Survival Techniques for kids
DESCRIPTION:6-hour workshop for kids 8+. Techniques to build resilience and awareness\, how to make fire\, gather water and build a shelter. \nBush skills\, mindfulness and survival skills for kids 8-12yo. Your child will learn in a fun day: \n\nThe mindset of survival and the “rules of three”\nHow to make fire using different modalities\nPrepare food and cook on fire\nHow to gather and treat water in the wilderness\nKnots and how to build shelter\n\nLocation: Wild & Wise Tribe\, 6 mins from Yandina town centre. \nExact address will be informed after ticket is purchased. \nPlease note: For kids 8-12yo \nFor bookings and more info: \nhttps://events.humanitix.com/intro-to-bush-skills-mindfulness-and-survival-techniques-for-kids-aug25
URL:https://wildandwisetribe.com.au/wwt-event/intro-to-bush-skills-mindfulness-survival-techniques-for-kids-12/
LOCATION:Yandina\, QLD\, Yandina\, QLD\, 4561\, Australia
CATEGORIES:Children,Family
ATTACH;FMTTYPE=image/png:https://wildandwisetribe.com.au/wp-content/uploads/2025/07/31st-AUG.png
END:VEVENT
END:VCALENDAR